BEGIN:VCALENDAR
VERSION:2.0
PRODID:-//ACCQ - Alliance pour une constituante citoyenne du Québec - ECPv6.15.20//NONSGML v1.0//EN
CALSCALE:GREGORIAN
METHOD:PUBLISH
X-WR-CALNAME:ACCQ - Alliance pour une constituante citoyenne du Québec
X-ORIGINAL-URL:https://accq.quebec
X-WR-CALDESC:Événements pour ACCQ - Alliance pour une constituante citoyenne du Québec
REFRESH-INTERVAL;VALUE=DURATION:PT1H
X-Robots-Tag:noindex
X-PUBLISHED-TTL:PT1H
BEGIN:VTIMEZONE
TZID:America/Halifax
BEGIN:DAYLIGHT
TZOFFSETFROM:-0400
TZOFFSETTO:-0300
TZNAME:ADT
DTSTART:20230312T060000
END:DAYLIGHT
BEGIN:STANDARD
TZOFFSETFROM:-0300
TZOFFSETTO:-0400
TZNAME:AST
DTSTART:20231105T050000
END:STANDARD
BEGIN:DAYLIGHT
TZOFFSETFROM:-0400
TZOFFSETTO:-0300
TZNAME:ADT
DTSTART:20240310T060000
END:DAYLIGHT
BEGIN:STANDARD
TZOFFSETFROM:-0300
TZOFFSETTO:-0400
TZNAME:AST
DTSTART:20241103T050000
END:STANDARD
BEGIN:DAYLIGHT
TZOFFSETFROM:-0400
TZOFFSETTO:-0300
TZNAME:ADT
DTSTART:20250309T060000
END:DAYLIGHT
BEGIN:STANDARD
TZOFFSETFROM:-0300
TZOFFSETTO:-0400
TZNAME:AST
DTSTART:20251102T050000
END:STANDARD
END:VTIMEZONE
BEGIN:VEVENT
DTSTART;TZID=America/Halifax:20241107T090000
DTEND;TZID=America/Halifax:20241107T110000
DTSTAMP:20260421T045615
CREATED:20240906T005443Z
LAST-MODIFIED:20241031T020543Z
UID:403-1730970000-1730977200@accq.quebec
SUMMARY:Rencontre Spécial Comité Lexique avec Étienne Chouard
DESCRIPTION:Session de travail du comité Lexique\, à 9h00 heure du Québec\, en vidéo-conférence. \nAvec la participation de Étienne Chouard de la France \nLien gotomeeting : https://meet.goto.com/204307989
URL:https://accq.quebec/event/rencontre-mensuel-comite-reflexion-3/
LOCATION:En ligne
CATEGORIES:Mensuelle
END:VEVENT
BEGIN:VEVENT
DTSTART;TZID=America/Halifax:20241121T093000
DTEND;TZID=America/Halifax:20241121T110000
DTSTAMP:20260421T045615
CREATED:20241113T020629Z
LAST-MODIFIED:20241113T020629Z
UID:1752-1732181400-1732186800@accq.quebec
SUMMARY:Rencontre Spécial Comité Lexique avec Étienne Chouard
DESCRIPTION:Session de travail du comité Lexique\, à 9h30 heure du Québec\, en vidéo-conférence. \nAvec la participation de Étienne Chouard de la France \nLien gotomeeting : https://meet.goto.com/204307989
URL:https://accq.quebec/event/rencontre-special-comite-lexique-avec-etienne-chouard/
LOCATION:En ligne
CATEGORIES:Mensuelle
END:VEVENT
BEGIN:VEVENT
DTSTART;TZID=America/Halifax:20241128T190000
DTEND;TZID=America/Halifax:20241128T210000
DTSTAMP:20260421T045615
CREATED:20241008T012045Z
LAST-MODIFIED:20241008T012405Z
UID:1611-1732820400-1732827600@accq.quebec
SUMMARY:Rencontre mensuelle comité réflexion
DESCRIPTION:Tous les derniers jeudi du mois\, à 19h\, en vidéo-conférence. \nLien gotomeeting : https://meet.goto.com/204307989
URL:https://accq.quebec/event/rencontre-mensuelle-comite-reflexion/
LOCATION:En ligne
CATEGORIES:Mensuelle
END:VEVENT
END:VCALENDAR