BEGIN:VCALENDAR
VERSION:2.0
PRODID:-//ACCQ - Alliance pour une constituante citoyenne du Québec - ECPv6.15.20//NONSGML v1.0//EN
CALSCALE:GREGORIAN
METHOD:PUBLISH
X-WR-CALNAME:ACCQ - Alliance pour une constituante citoyenne du Québec
X-ORIGINAL-URL:https://accq.quebec
X-WR-CALDESC:Événements pour ACCQ - Alliance pour une constituante citoyenne du Québec
REFRESH-INTERVAL;VALUE=DURATION:PT1H
X-Robots-Tag:noindex
X-PUBLISHED-TTL:PT1H
BEGIN:VTIMEZONE
TZID:America/Halifax
BEGIN:DAYLIGHT
TZOFFSETFROM:-0400
TZOFFSETTO:-0300
TZNAME:ADT
DTSTART:20240310T060000
END:DAYLIGHT
BEGIN:STANDARD
TZOFFSETFROM:-0300
TZOFFSETTO:-0400
TZNAME:AST
DTSTART:20241103T050000
END:STANDARD
BEGIN:DAYLIGHT
TZOFFSETFROM:-0400
TZOFFSETTO:-0300
TZNAME:ADT
DTSTART:20250309T060000
END:DAYLIGHT
BEGIN:STANDARD
TZOFFSETFROM:-0300
TZOFFSETTO:-0400
TZNAME:AST
DTSTART:20251102T050000
END:STANDARD
BEGIN:DAYLIGHT
TZOFFSETFROM:-0400
TZOFFSETTO:-0300
TZNAME:ADT
DTSTART:20260308T060000
END:DAYLIGHT
BEGIN:STANDARD
TZOFFSETFROM:-0300
TZOFFSETTO:-0400
TZNAME:AST
DTSTART:20261101T050000
END:STANDARD
END:VTIMEZONE
BEGIN:VEVENT
DTSTART;TZID=America/Halifax:20250130T190000
DTEND;TZID=America/Halifax:20250130T210000
DTSTAMP:20260421T021026
CREATED:20250108T002023Z
LAST-MODIFIED:20250131T003651Z
UID:1832-1738263600-1738270800@accq.quebec
SUMMARY:Rencontre mensuelle comité réflexion
DESCRIPTION:Tous les derniers jeudi du mois\, à 19h\, en vidéo-conférence. \nNOUVEAU LIEN: https://jitsi.komuniki.fr/ACCQ
URL:https://accq.quebec/event/annule-rencontre-mensuelle-comite-reflexion/
LOCATION:En ligne
CATEGORIES:Mensuelle
END:VEVENT
END:VCALENDAR