BEGIN:VCALENDAR
VERSION:2.0
PRODID:-//ACCQ - Alliance pour une constituante citoyenne du Québec - ECPv6.15.20//NONSGML v1.0//EN
CALSCALE:GREGORIAN
METHOD:PUBLISH
X-WR-CALNAME:ACCQ - Alliance pour une constituante citoyenne du Québec
X-ORIGINAL-URL:https://accq.quebec
X-WR-CALDESC:Événements pour ACCQ - Alliance pour une constituante citoyenne du Québec
REFRESH-INTERVAL;VALUE=DURATION:PT1H
X-Robots-Tag:noindex
X-PUBLISHED-TTL:PT1H
BEGIN:VTIMEZONE
TZID:America/Halifax
BEGIN:DAYLIGHT
TZOFFSETFROM:-0400
TZOFFSETTO:-0300
TZNAME:ADT
DTSTART:20240310T060000
END:DAYLIGHT
BEGIN:STANDARD
TZOFFSETFROM:-0300
TZOFFSETTO:-0400
TZNAME:AST
DTSTART:20241103T050000
END:STANDARD
BEGIN:DAYLIGHT
TZOFFSETFROM:-0400
TZOFFSETTO:-0300
TZNAME:ADT
DTSTART:20250309T060000
END:DAYLIGHT
BEGIN:STANDARD
TZOFFSETFROM:-0300
TZOFFSETTO:-0400
TZNAME:AST
DTSTART:20251102T050000
END:STANDARD
BEGIN:DAYLIGHT
TZOFFSETFROM:-0400
TZOFFSETTO:-0300
TZNAME:ADT
DTSTART:20260308T060000
END:DAYLIGHT
BEGIN:STANDARD
TZOFFSETFROM:-0300
TZOFFSETTO:-0400
TZNAME:AST
DTSTART:20261101T050000
END:STANDARD
END:VTIMEZONE
BEGIN:VEVENT
DTSTART;TZID=America/Halifax:20251127T190000
DTEND;TZID=America/Halifax:20251127T210000
DTSTAMP:20260420T133809
CREATED:20251101T151432Z
LAST-MODIFIED:20251101T151432Z
UID:2130-1764270000-1764277200@accq.quebec
SUMMARY:Rencontre mensuelle comité réflexion
DESCRIPTION:Tous les derniers jeudi du mois\, à 19h\, en vidéo-conférence. \nNOUVEAU LIEN: https://jitsi.komuniki.fr/ACCQ \n« Tous ce que vous avez toujours voulue savoir sur une assemblée constituante citoyenne et n’avez jamais osé demandé! »
URL:https://accq.quebec/event/rencontre-mensuelle-comite-reflexion-10/
LOCATION:En ligne
CATEGORIES:Mensuelle
END:VEVENT
END:VCALENDAR