BEGIN:VCALENDAR
VERSION:2.0
PRODID:-//ACCQ - Alliance pour une constituante citoyenne du Québec - ECPv6.15.20//NONSGML v1.0//EN
CALSCALE:GREGORIAN
METHOD:PUBLISH
X-WR-CALNAME:ACCQ - Alliance pour une constituante citoyenne du Québec
X-ORIGINAL-URL:https://accq.quebec
X-WR-CALDESC:Événements pour ACCQ - Alliance pour une constituante citoyenne du Québec
REFRESH-INTERVAL;VALUE=DURATION:PT1H
X-Robots-Tag:noindex
X-PUBLISHED-TTL:PT1H
BEGIN:VTIMEZONE
TZID:America/Halifax
BEGIN:DAYLIGHT
TZOFFSETFROM:-0400
TZOFFSETTO:-0300
TZNAME:ADT
DTSTART:20230312T060000
END:DAYLIGHT
BEGIN:STANDARD
TZOFFSETFROM:-0300
TZOFFSETTO:-0400
TZNAME:AST
DTSTART:20231105T050000
END:STANDARD
BEGIN:DAYLIGHT
TZOFFSETFROM:-0400
TZOFFSETTO:-0300
TZNAME:ADT
DTSTART:20240310T060000
END:DAYLIGHT
BEGIN:STANDARD
TZOFFSETFROM:-0300
TZOFFSETTO:-0400
TZNAME:AST
DTSTART:20241103T050000
END:STANDARD
BEGIN:DAYLIGHT
TZOFFSETFROM:-0400
TZOFFSETTO:-0300
TZNAME:ADT
DTSTART:20250309T060000
END:DAYLIGHT
BEGIN:STANDARD
TZOFFSETFROM:-0300
TZOFFSETTO:-0400
TZNAME:AST
DTSTART:20251102T050000
END:STANDARD
END:VTIMEZONE
BEGIN:VEVENT
DTSTART;TZID=America/Halifax:20241113T190000
DTEND;TZID=America/Halifax:20241113T210000
DTSTAMP:20260421T012928
CREATED:20241008T011756Z
LAST-MODIFIED:20241008T011756Z
UID:1605-1731524400-1731531600@accq.quebec
SUMMARY:Rencontre hebdomadaire comité COMMUNICATION
DESCRIPTION:Tous les mercredi\, à 19h\, en vidéo-conférence. \nLien gotomeeting : https://meet.goto.com/204307989
URL:https://accq.quebec/event/rencontre-hebdomadaire-comite-communication-12/
LOCATION:En ligne
CATEGORIES:Hebdomadaire
END:VEVENT
BEGIN:VEVENT
DTSTART;TZID=America/Halifax:20241106T190000
DTEND;TZID=America/Halifax:20241106T210000
DTSTAMP:20260421T012928
CREATED:20241008T011402Z
LAST-MODIFIED:20241008T011402Z
UID:1602-1730919600-1730926800@accq.quebec
SUMMARY:Rencontre hebdomadaire comité COMMUNICATION
DESCRIPTION:Tous les mercredi\, à 19h\, en vidéo-conférence. \nLien gotomeeting : https://meet.goto.com/204307989
URL:https://accq.quebec/event/rencontre-hebdomadaire-comite-communication-13/
LOCATION:En ligne
CATEGORIES:Hebdomadaire
END:VEVENT
BEGIN:VEVENT
DTSTART;TZID=America/Halifax:20241030T190000
DTEND;TZID=America/Halifax:20241030T210000
DTSTAMP:20260421T012928
CREATED:20240919T010953Z
LAST-MODIFIED:20241008T005918Z
UID:748-1730314800-1730322000@accq.quebec
SUMMARY:Rencontre hebdomadaire comité COMMUNICATION
DESCRIPTION:Tous les mercredi\, à 19h\, en vidéo-conférence. \nLien gotomeeting : https://meet.goto.com/204307989
URL:https://accq.quebec/event/rencontre-hebdomadaire-comite-communication-11/
LOCATION:En ligne
CATEGORIES:Hebdomadaire
END:VEVENT
BEGIN:VEVENT
DTSTART;TZID=America/Halifax:20241023T190000
DTEND;TZID=America/Halifax:20241023T210000
DTSTAMP:20260421T012928
CREATED:20240919T010730Z
LAST-MODIFIED:20240919T010730Z
UID:746-1729710000-1729717200@accq.quebec
SUMMARY:Rencontre hebdomadaire comité COMMUNICATION
DESCRIPTION:Tous les mercredi\, à 19h\, en vidéo-conférence. \nLien gotomeeting : https://meet.goto.com/204307989
URL:https://accq.quebec/event/rencontre-hebdomadaire-comite-communication-10/
LOCATION:En ligne
CATEGORIES:Hebdomadaire
END:VEVENT
BEGIN:VEVENT
DTSTART;TZID=America/Halifax:20241016T190000
DTEND;TZID=America/Halifax:20241016T210000
DTSTAMP:20260421T012928
CREATED:20240919T010215Z
LAST-MODIFIED:20241008T005754Z
UID:744-1729105200-1729112400@accq.quebec
SUMMARY:Rencontre hebdomadaire comité COMMUNICATION
DESCRIPTION:Tous les mercredi\, à 19h\, en vidéo-conférence. \nLien gotomeeting : https://meet.goto.com/204307989
URL:https://accq.quebec/event/rencontre-hebdomadaire-comite-communication-9/
LOCATION:En ligne
CATEGORIES:Hebdomadaire
END:VEVENT
BEGIN:VEVENT
DTSTART;TZID=America/Halifax:20241002T190000
DTEND;TZID=America/Halifax:20241002T210000
DTSTAMP:20260421T012928
CREATED:20240919T004648Z
LAST-MODIFIED:20240919T005417Z
UID:740-1727895600-1727902800@accq.quebec
SUMMARY:Rencontre hebdomadaire comité COMMUNICATION
DESCRIPTION:Tous les mercredi\, à 19h\, en vidéo-conférence. \nLien gotomeeting : https://meet.goto.com/204307989
URL:https://accq.quebec/event/rencontre-hebdomadaire-comite-communication-7/
LOCATION:En ligne
CATEGORIES:Hebdomadaire
END:VEVENT
END:VCALENDAR