BEGIN:VCALENDAR
VERSION:2.0
PRODID:-//ACCQ - Alliance pour une constituante citoyenne du Québec - ECPv6.15.20//NONSGML v1.0//EN
CALSCALE:GREGORIAN
METHOD:PUBLISH
X-WR-CALNAME:ACCQ - Alliance pour une constituante citoyenne du Québec
X-ORIGINAL-URL:https://accq.quebec
X-WR-CALDESC:Événements pour ACCQ - Alliance pour une constituante citoyenne du Québec
REFRESH-INTERVAL;VALUE=DURATION:PT1H
X-Robots-Tag:noindex
X-PUBLISHED-TTL:PT1H
BEGIN:VTIMEZONE
TZID:America/Halifax
BEGIN:DAYLIGHT
TZOFFSETFROM:-0400
TZOFFSETTO:-0300
TZNAME:ADT
DTSTART:20230312T060000
END:DAYLIGHT
BEGIN:STANDARD
TZOFFSETFROM:-0300
TZOFFSETTO:-0400
TZNAME:AST
DTSTART:20231105T050000
END:STANDARD
BEGIN:DAYLIGHT
TZOFFSETFROM:-0400
TZOFFSETTO:-0300
TZNAME:ADT
DTSTART:20240310T060000
END:DAYLIGHT
BEGIN:STANDARD
TZOFFSETFROM:-0300
TZOFFSETTO:-0400
TZNAME:AST
DTSTART:20241103T050000
END:STANDARD
BEGIN:DAYLIGHT
TZOFFSETFROM:-0400
TZOFFSETTO:-0300
TZNAME:ADT
DTSTART:20250309T060000
END:DAYLIGHT
BEGIN:STANDARD
TZOFFSETFROM:-0300
TZOFFSETTO:-0400
TZNAME:AST
DTSTART:20251102T050000
END:STANDARD
BEGIN:DAYLIGHT
TZOFFSETFROM:-0400
TZOFFSETTO:-0300
TZNAME:ADT
DTSTART:20260308T060000
END:DAYLIGHT
BEGIN:STANDARD
TZOFFSETFROM:-0300
TZOFFSETTO:-0400
TZNAME:AST
DTSTART:20261101T050000
END:STANDARD
END:VTIMEZONE
BEGIN:VEVENT
DTSTART;TZID=America/Halifax:20250709T193000
DTEND;TZID=America/Halifax:20250709T213000
DTSTAMP:20260420T144435
CREATED:20250714T224020Z
LAST-MODIFIED:20250714T224044Z
UID:2042-1752089400-1752096600@accq.quebec
SUMMARY:Rencontre hebdomadaire comité Militantisme
DESCRIPTION:Tous les mercredi\, à 19:30h\, en vidéo-conférence. \nNOUVEAU LIEN: https://jitsi.komuniki.fr/ACCQ
URL:https://accq.quebec/event/rencontre-hebdomadaire-comite-militantisme-37/
LOCATION:En ligne
CATEGORIES:Hebdomadaire
END:VEVENT
BEGIN:VEVENT
DTSTART;TZID=America/Halifax:20250702T193000
DTEND;TZID=America/Halifax:20250702T213000
DTSTAMP:20260420T144435
CREATED:20250714T224151Z
LAST-MODIFIED:20250714T224151Z
UID:2046-1751484600-1751491800@accq.quebec
SUMMARY:Rencontre hebdomadaire comité Militantisme
DESCRIPTION:Tous les mercredi\, à 19:30h\, en vidéo-conférence. \nNOUVEAU LIEN: https://jitsi.komuniki.fr/ACCQ
URL:https://accq.quebec/event/rencontre-hebdomadaire-comite-militantisme-38/
LOCATION:En ligne
CATEGORIES:Hebdomadaire
END:VEVENT
BEGIN:VEVENT
DTSTART;TZID=America/Halifax:20250625T193000
DTEND;TZID=America/Halifax:20250625T213000
DTSTAMP:20260420T144435
CREATED:20250513T031235Z
LAST-MODIFIED:20250513T031235Z
UID:2023-1750879800-1750887000@accq.quebec
SUMMARY:Rencontre hebdomadaire comité Militantisme
DESCRIPTION:Tous les mercredi\, à 19:30h\, en vidéo-conférence. \nNOUVEAU LIEN: https://jitsi.komuniki.fr/ACCQ
URL:https://accq.quebec/event/rencontre-hebdomadaire-comite-militantisme-36/
LOCATION:En ligne
CATEGORIES:Hebdomadaire
END:VEVENT
BEGIN:VEVENT
DTSTART;TZID=America/Halifax:20250618T193000
DTEND;TZID=America/Halifax:20250618T213000
DTSTAMP:20260420T144435
CREATED:20250513T031120Z
LAST-MODIFIED:20250513T031120Z
UID:2017-1750275000-1750282200@accq.quebec
SUMMARY:Rencontre hebdomadaire comité Militantisme
DESCRIPTION:Tous les mercredi\, à 19:30h\, en vidéo-conférence. \nNOUVEAU LIEN: https://jitsi.komuniki.fr/ACCQ
URL:https://accq.quebec/event/rencontre-hebdomadaire-comite-militantisme-35/
LOCATION:En ligne
CATEGORIES:Hebdomadaire
END:VEVENT
BEGIN:VEVENT
DTSTART;TZID=America/Halifax:20250611T193000
DTEND;TZID=America/Halifax:20250611T213000
DTSTAMP:20260420T144435
CREATED:20250529T233259Z
LAST-MODIFIED:20250529T233259Z
UID:2031-1749670200-1749677400@accq.quebec
SUMMARY:Rencontre hebdomadaire comité Militantisme
DESCRIPTION:Tous les mercredi\, à 19:30h\, en vidéo-conférence. \nNOUVEAU LIEN: https://jitsi.komuniki.fr/ACCQ
URL:https://accq.quebec/event/rencontre-hebdomadaire-comite-militantisme-34/
LOCATION:En ligne
CATEGORIES:Hebdomadaire
END:VEVENT
BEGIN:VEVENT
DTSTART;TZID=America/Halifax:20250604T193000
DTEND;TZID=America/Halifax:20250604T213000
DTSTAMP:20260420T144435
CREATED:20250513T030934Z
LAST-MODIFIED:20250513T030934Z
UID:2010-1749065400-1749072600@accq.quebec
SUMMARY:Rencontre hebdomadaire comité Militantisme
DESCRIPTION:Tous les mercredi\, à 19:30h\, en vidéo-conférence. \nNOUVEAU LIEN: https://jitsi.komuniki.fr/ACCQ
URL:https://accq.quebec/event/rencontre-hebdomadaire-comite-militantisme-33/
LOCATION:En ligne
CATEGORIES:Hebdomadaire
END:VEVENT
BEGIN:VEVENT
DTSTART;TZID=America/Halifax:20250528T193000
DTEND;TZID=America/Halifax:20250528T213000
DTSTAMP:20260420T144435
CREATED:20250513T030536Z
LAST-MODIFIED:20250513T030536Z
UID:2000-1748460600-1748467800@accq.quebec
SUMMARY:Rencontre hebdomadaire comité Militantisme
DESCRIPTION:Tous les mercredi\, à 19:30h\, en vidéo-conférence. \nNOUVEAU LIEN: https://jitsi.komuniki.fr/ACCQ
URL:https://accq.quebec/event/rencontre-hebdomadaire-comite-militantisme-31/
LOCATION:En ligne
CATEGORIES:Hebdomadaire
END:VEVENT
BEGIN:VEVENT
DTSTART;TZID=America/Halifax:20250521T193000
DTEND;TZID=America/Halifax:20250521T213000
DTSTAMP:20260420T144435
CREATED:20250513T025448Z
LAST-MODIFIED:20250513T025448Z
UID:1997-1747855800-1747863000@accq.quebec
SUMMARY:Rencontre hebdomadaire comité Militantisme
DESCRIPTION:Tous les mercredi\, à 19:30h\, en vidéo-conférence. \nNOUVEAU LIEN: https://jitsi.komuniki.fr/ACCQ
URL:https://accq.quebec/event/rencontre-hebdomadaire-comite-militantisme-30/
LOCATION:En ligne
CATEGORIES:Hebdomadaire
END:VEVENT
BEGIN:VEVENT
DTSTART;TZID=America/Halifax:20250514T193000
DTEND;TZID=America/Halifax:20250514T213000
DTSTAMP:20260420T144435
CREATED:20250513T025319Z
LAST-MODIFIED:20250513T025319Z
UID:1993-1747251000-1747258200@accq.quebec
SUMMARY:Rencontre hebdomadaire comité Militantisme
DESCRIPTION:Tous les mercredi\, à 19:30h\, en vidéo-conférence. \nNOUVEAU LIEN: https://jitsi.komuniki.fr/ACCQ
URL:https://accq.quebec/event/rencontre-hebdomadaire-comite-militantisme-29/
LOCATION:En ligne
CATEGORIES:Hebdomadaire
END:VEVENT
BEGIN:VEVENT
DTSTART;TZID=America/Halifax:20250507T193000
DTEND;TZID=America/Halifax:20250507T213000
DTSTAMP:20260420T144435
CREATED:20250513T030754Z
LAST-MODIFIED:20250513T030754Z
UID:2006-1746646200-1746653400@accq.quebec
SUMMARY:Rencontre hebdomadaire comité Militantisme
DESCRIPTION:Tous les mercredi\, à 19:30h\, en vidéo-conférence. \nNOUVEAU LIEN: https://jitsi.komuniki.fr/ACCQ
URL:https://accq.quebec/event/rencontre-hebdomadaire-comite-militantisme-32/
LOCATION:En ligne
CATEGORIES:Hebdomadaire
END:VEVENT
BEGIN:VEVENT
DTSTART;TZID=America/Halifax:20250430T193000
DTEND;TZID=America/Halifax:20250430T213000
DTSTAMP:20260420T144435
CREATED:20250316T141900Z
LAST-MODIFIED:20250325T231904Z
UID:1968-1746041400-1746048600@accq.quebec
SUMMARY:Rencontre hebdomadaire comité Militantisme
DESCRIPTION:Tous les mercredi\, à 19:30h\, en vidéo-conférence. \nNOUVEAU LIEN: https://jitsi.komuniki.fr/ACCQ
URL:https://accq.quebec/event/rencontre-hebdomadaire-comite-militantisme-28/
LOCATION:En ligne
CATEGORIES:Hebdomadaire
END:VEVENT
BEGIN:VEVENT
DTSTART;TZID=America/Halifax:20250423T193000
DTEND;TZID=America/Halifax:20250423T213000
DTSTAMP:20260420T144435
CREATED:20250314T002653Z
LAST-MODIFIED:20250325T231751Z
UID:1959-1745436600-1745443800@accq.quebec
SUMMARY:Rencontre hebdomadaire comité Militantisme
DESCRIPTION:Tous les mercredi\, à 19:30 h\, en vidéo-conférence. \nNOUVEAU LIEN: https://jitsi.komuniki.fr/ACCQ
URL:https://accq.quebec/event/rencontre-hebdomadaire-comite-militantisme-27/
LOCATION:En ligne
CATEGORIES:Hebdomadaire
END:VEVENT
BEGIN:VEVENT
DTSTART;TZID=America/Halifax:20250416T193000
DTEND;TZID=America/Halifax:20250416T203000
DTSTAMP:20260420T144435
CREATED:20250314T002427Z
LAST-MODIFIED:20250416T212138Z
UID:1955-1744831800-1744835400@accq.quebec
SUMMARY:Rencontre hebdomadaire comité Militantisme
DESCRIPTION:Tous les mercredi\, à 19h\, en vidéo-conférence. \nNOUVEAU LIEN: https://jitsi.komuniki.fr/ACCQ
URL:https://accq.quebec/event/rencontre-hebdomadaire-comite-militantisme-26/
LOCATION:En ligne
CATEGORIES:Hebdomadaire
END:VEVENT
BEGIN:VEVENT
DTSTART;TZID=America/Halifax:20250409T193000
DTEND;TZID=America/Halifax:20250409T213000
DTSTAMP:20260420T144435
CREATED:20250314T002154Z
LAST-MODIFIED:20250325T231238Z
UID:1951-1744227000-1744234200@accq.quebec
SUMMARY:Rencontre hebdomadaire comité Militantisme
DESCRIPTION:Tous les mercredi\, à 19:30h\, en vidéo-conférence. \nNOUVEAU LIEN: https://jitsi.komuniki.fr/ACCQ
URL:https://accq.quebec/event/rencontre-hebdomadaire-comite-militantisme-25/
LOCATION:En ligne
CATEGORIES:Hebdomadaire
END:VEVENT
BEGIN:VEVENT
DTSTART;TZID=America/Halifax:20250402T193000
DTEND;TZID=America/Halifax:20250402T213000
DTSTAMP:20260420T144435
CREATED:20250314T001828Z
LAST-MODIFIED:20250325T230924Z
UID:1945-1743622200-1743629400@accq.quebec
SUMMARY:Rencontre hebdomadaire comité Militantisme
DESCRIPTION:Tous les mercredi\, à 19h\, en vidéo-conférence. \nNOUVEAU LIEN: https://jitsi.komuniki.fr/ACCQ
URL:https://accq.quebec/event/rencontre-hebdomadaire-comite-militantisme-24/
LOCATION:En ligne
CATEGORIES:Hebdomadaire
END:VEVENT
BEGIN:VEVENT
DTSTART;TZID=America/Halifax:20250326T190000
DTEND;TZID=America/Halifax:20250326T210000
DTSTAMP:20260420T144435
CREATED:20250228T002231Z
LAST-MODIFIED:20250314T001158Z
UID:1931-1743015600-1743022800@accq.quebec
SUMMARY:Rencontre hebdomadaire comité Militantisme
DESCRIPTION:Tous les mercredi\, à 19h\, en vidéo-conférence. \nNOUVEAU LIEN: https://jitsi.komuniki.fr/ACCQ
URL:https://accq.quebec/event/rencontre-hebdomadaire-comite-communication-30/
LOCATION:En ligne
CATEGORIES:Hebdomadaire
END:VEVENT
BEGIN:VEVENT
DTSTART;TZID=America/Halifax:20250319T190000
DTEND;TZID=America/Halifax:20250319T210000
DTSTAMP:20260420T144435
CREATED:20250228T001947Z
LAST-MODIFIED:20250314T000950Z
UID:1925-1742410800-1742418000@accq.quebec
SUMMARY:Rencontre hebdomadaire comité MILITANTISME
DESCRIPTION:Tous les mercredi\, à 19h\, en vidéo-conférence. \nNOUVEAU LIEN: https://jitsi.komuniki.fr/ACCQ
URL:https://accq.quebec/event/rencontre-hebdomadaire-comite-communication-29/
LOCATION:En ligne
CATEGORIES:Hebdomadaire
END:VEVENT
BEGIN:VEVENT
DTSTART;TZID=America/Halifax:20250312T190000
DTEND;TZID=America/Halifax:20250312T210000
DTSTAMP:20260420T144435
CREATED:20250228T001805Z
LAST-MODIFIED:20250228T001805Z
UID:1920-1741806000-1741813200@accq.quebec
SUMMARY:Rencontre hebdomadaire comité COMMUNICATION
DESCRIPTION:Tous les mercredi\, à 19h\, en vidéo-conférence. \nNOUVEAU LIEN: https://jitsi.komuniki.fr/ACCQ
URL:https://accq.quebec/event/rencontre-hebdomadaire-comite-communication-28/
LOCATION:En ligne
CATEGORIES:Hebdomadaire
END:VEVENT
BEGIN:VEVENT
DTSTART;TZID=America/Halifax:20250305T190000
DTEND;TZID=America/Halifax:20250305T210000
DTSTAMP:20260420T144435
CREATED:20250131T004732Z
LAST-MODIFIED:20250131T004732Z
UID:1865-1741201200-1741208400@accq.quebec
SUMMARY:Rencontre hebdomadaire comité COMMUNICATION
DESCRIPTION:Tous les mercredi\, à 19h\, en vidéo-conférence. \nNOUVEAU LIEN: https://jitsi.komuniki.fr/ACCQ
URL:https://accq.quebec/event/rencontre-hebdomadaire-comite-communication-24/
LOCATION:En ligne
CATEGORIES:Hebdomadaire
END:VEVENT
BEGIN:VEVENT
DTSTART;TZID=America/Halifax:20250226T190000
DTEND;TZID=America/Halifax:20250226T210000
DTSTAMP:20260420T144435
CREATED:20250131T050313Z
LAST-MODIFIED:20250131T050313Z
UID:1882-1740596400-1740603600@accq.quebec
SUMMARY:Rencontre hebdomadaire comité COMMUNICATION
DESCRIPTION:Tous les mercredi\, à 19h\, en vidéo-conférence. \nNOUVEAU LIEN: https://jitsi.komuniki.fr/ACCQ
URL:https://accq.quebec/event/rencontre-hebdomadaire-comite-communication-27/
LOCATION:En ligne
CATEGORIES:Hebdomadaire
END:VEVENT
BEGIN:VEVENT
DTSTART;TZID=America/Halifax:20250219T190000
DTEND;TZID=America/Halifax:20250219T210000
DTSTAMP:20260420T144435
CREATED:20250131T050024Z
LAST-MODIFIED:20250131T050024Z
UID:1878-1739991600-1739998800@accq.quebec
SUMMARY:Rencontre hebdomadaire comité COMMUNICATION
DESCRIPTION:Tous les mercredi\, à 19h\, en vidéo-conférence. \nNOUVEAU LIEN: https://jitsi.komuniki.fr/ACCQ
URL:https://accq.quebec/event/rencontre-hebdomadaire-comite-communication-26/
LOCATION:En ligne
CATEGORIES:Hebdomadaire
END:VEVENT
BEGIN:VEVENT
DTSTART;TZID=America/Halifax:20250212T190000
DTEND;TZID=America/Halifax:20250212T210000
DTSTAMP:20260420T144435
CREATED:20250131T005604Z
LAST-MODIFIED:20250131T005604Z
UID:1876-1739386800-1739394000@accq.quebec
SUMMARY:Rencontre hebdomadaire comité COMMUNICATION
DESCRIPTION:Tous les mercredi\, à 19h\, en vidéo-conférence. \nNOUVEAU LIEN: https://jitsi.komuniki.fr/ACCQ
URL:https://accq.quebec/event/rencontre-hebdomadaire-comite-communication-25/
LOCATION:En ligne
CATEGORIES:Hebdomadaire
END:VEVENT
BEGIN:VEVENT
DTSTART;TZID=America/Halifax:20250205T190000
DTEND;TZID=America/Halifax:20250205T210000
DTSTAMP:20260420T144435
CREATED:20250131T004029Z
LAST-MODIFIED:20250131T004637Z
UID:1861-1738782000-1738789200@accq.quebec
SUMMARY:Rencontre hebdomadaire comité COMMUNICATION
DESCRIPTION:Tous les mercredi\, à 19h\, en vidéo-conférence. \nNOUVEAU LIEN: https://jitsi.komuniki.fr/ACCQ
URL:https://accq.quebec/event/rencontre-hebdomadaire-comite-communication-23/
LOCATION:En ligne
CATEGORIES:Hebdomadaire
END:VEVENT
BEGIN:VEVENT
DTSTART;TZID=America/Halifax:20250129T190000
DTEND;TZID=America/Halifax:20250129T210000
DTSTAMP:20260420T144435
CREATED:20250108T002525Z
LAST-MODIFIED:20250108T002525Z
UID:1841-1738177200-1738184400@accq.quebec
SUMMARY:Rencontre hebdomadaire comité COMMUNICATION
DESCRIPTION:Tous les mercredi\, à 19h\, en vidéo-conférence. \nNOUVEAU LIEN: https://jitsi.komuniki.fr/ACCQ
URL:https://accq.quebec/event/rencontre-hebdomadaire-comite-communication-22/
LOCATION:En ligne
CATEGORIES:Hebdomadaire
END:VEVENT
BEGIN:VEVENT
DTSTART;TZID=America/Halifax:20250122T190000
DTEND;TZID=America/Halifax:20250122T210000
DTSTAMP:20260420T144435
CREATED:20250108T002335Z
LAST-MODIFIED:20250108T002335Z
UID:1839-1737572400-1737579600@accq.quebec
SUMMARY:Rencontre hebdomadaire comité COMMUNICATION
DESCRIPTION:Tous les mercredi\, à 19h\, en vidéo-conférence. \nNOUVEAU LIEN: https://jitsi.komuniki.fr/ACCQ
URL:https://accq.quebec/event/rencontre-hebdomadaire-comite-communication-21/
LOCATION:En ligne
CATEGORIES:Hebdomadaire
END:VEVENT
BEGIN:VEVENT
DTSTART;TZID=America/Halifax:20250115T190000
DTEND;TZID=America/Halifax:20250115T210000
DTSTAMP:20260420T144435
CREATED:20250108T002256Z
LAST-MODIFIED:20250108T002256Z
UID:1837-1736967600-1736974800@accq.quebec
SUMMARY:Rencontre hebdomadaire comité COMMUNICATION
DESCRIPTION:Tous les mercredi\, à 19h\, en vidéo-conférence. \nNOUVEAU LIEN: https://jitsi.komuniki.fr/ACCQ
URL:https://accq.quebec/event/rencontre-hebdomadaire-comite-communication-20/
LOCATION:En ligne
CATEGORIES:Hebdomadaire
END:VEVENT
BEGIN:VEVENT
DTSTART;TZID=America/Halifax:20250108T190000
DTEND;TZID=America/Halifax:20250108T210000
DTSTAMP:20260420T144435
CREATED:20250108T002216Z
LAST-MODIFIED:20250108T002216Z
UID:1835-1736362800-1736370000@accq.quebec
SUMMARY:Rencontre hebdomadaire comité COMMUNICATION
DESCRIPTION:Tous les mercredi\, à 19h\, en vidéo-conférence. \nNOUVEAU LIEN: https://jitsi.komuniki.fr/ACCQ
URL:https://accq.quebec/event/rencontre-hebdomadaire-comite-communication-19/
LOCATION:En ligne
CATEGORIES:Hebdomadaire
END:VEVENT
BEGIN:VEVENT
DTSTART;TZID=America/Halifax:20241218T190000
DTEND;TZID=America/Halifax:20241218T210000
DTSTAMP:20260420T144435
CREATED:20241201T222409Z
LAST-MODIFIED:20241201T222409Z
UID:1790-1734548400-1734555600@accq.quebec
SUMMARY:Rencontre hebdomadaire comité COMMUNICATION
DESCRIPTION:Tous les mercredi\, à 19h\, en vidéo-conférence. \nLien gotomeeting : https://meet.goto.com/204307989
URL:https://accq.quebec/event/rencontre-hebdomadaire-comite-communication-18/
LOCATION:En ligne
CATEGORIES:Hebdomadaire
END:VEVENT
BEGIN:VEVENT
DTSTART;TZID=America/Halifax:20241211T190000
DTEND;TZID=America/Halifax:20241211T210000
DTSTAMP:20260420T144435
CREATED:20241113T021533Z
LAST-MODIFIED:20241211T010720Z
UID:1766-1733943600-1733950800@accq.quebec
SUMMARY:Rencontre hebdomadaire comité COMMUNICATION
DESCRIPTION:Tous les mercredi\, à 19h\, en vidéo-conférence. \nNOUVEAU LIEN: https://jitsi.komuniki.fr/ACCQ
URL:https://accq.quebec/event/rencontre-hebdomadaire-comite-communication-17/
LOCATION:En ligne
CATEGORIES:Hebdomadaire
END:VEVENT
BEGIN:VEVENT
DTSTART;TZID=America/Halifax:20241204T190000
DTEND;TZID=America/Halifax:20241204T210000
DTSTAMP:20260420T144435
CREATED:20241113T021504Z
LAST-MODIFIED:20241113T021504Z
UID:1764-1733338800-1733346000@accq.quebec
SUMMARY:Rencontre hebdomadaire comité COMMUNICATION
DESCRIPTION:Tous les mercredi\, à 19h\, en vidéo-conférence. \nLien gotomeeting : https://meet.goto.com/204307989
URL:https://accq.quebec/event/rencontre-hebdomadaire-comite-communication-16/
LOCATION:En ligne
CATEGORIES:Hebdomadaire
END:VEVENT
END:VCALENDAR